BEGIN:VCALENDAR
PRODID:-//AT Content Types//AT Event//EN
VERSION:2.0
METHOD:PUBLISH
BEGIN:VEVENT
DTSTAMP:20260421T083327Z
CREATED:20240118T111234Z
UID:ATEvent-0d20ea25f30a4db39aaf89d1ee48630f
LAST-MODIFIED:20250324T112835Z
SUMMARY:Kolloquium // Sammler\, Künstler\, Gelehrte: Wissen und Wollen in Sammlungskatalogen. Bildwerdung der Antike – Zur Episteme von Zeichnungen und Druckgrafiken der Frühen Neuzeit III
DTSTART:20240621T110000Z
DTEND:20240621T170000Z
DESCRIPTION:Eine Veranstaltung des Akademienvorhabens „Antiquitatum 
 Thesaurus. Antiken in den europäischen Bildquellen des 17. und 18. Ja
 hrhunderts“ der Berlin-Brandenburgischen Akademie der Wissenschaften
  (BBAW)
LOCATION:Berlin-Brandenburgische Akademie der Wissenschaften | Raum 07W04\, Unter den Linden 8 (Akademieflügel der Staatsbibliothek)\, 10117 Berlin + online
CATEGORIES:2024, Reihe Bildwerdung der Antike
CLASS:PUBLIC
END:VEVENT
END:VCALENDAR
