BEGIN:VCALENDAR
PRODID:-//AT Content Types//AT Event//EN
VERSION:1.0
BEGIN:VEVENT
DTSTART:20241120T180000Z
DTEND:20241120T193000Z
DCREATED:20240729T094156Z
UID:ATEvent-41c92987029146059744a3cfa637d7de
SEQUENCE:0
LAST-MODIFIED:20241107T133042Z
SUMMARY:Künstlergespräch // „Edelstahl als Dunkelziffer“
DESCRIPTION:Karl Imhof im Gespräch mit Fred Jahn\, Galerist und Samml
 er\, München\, und Andreas Strobl\, Staatl. Graphische Sammlung Münc
 hen | Moderation: Rüdiger Hoyer\, Zentralinstitut für Kunstgeschicht
 e\, München |\nAus Anlass der Schenkung Karl Imhofs an die Bibliothek
  des Zentralinstituts für Kunstgeschichte.
LOCATION:Raum 242\, II. OG\, Katharina-von-Bora-Straße 10\, 80333 München | online
PRIORITY:3
TRANSP:0
END:VEVENT
END:VCALENDAR
