BEGIN:VCALENDAR
PRODID:-//AT Content Types//AT Event//EN
VERSION:1.0
BEGIN:VEVENT
DTSTART:20240522T163000Z
DTEND:20240522T180000Z
DCREATED:20240411T093310Z
UID:ATEvent-f5cb99bfea0241849cc2c244695ec36a
SEQUENCE:0
LAST-MODIFIED:20250324T111420Z
SUMMARY:Panel Discussion // Speculative Ecologies in Contemporary Art
DESCRIPTION:The event is part of the series „Ökologien und Kunstges
 chichte"
LOCATION:Online
PRIORITY:3
TRANSP:0
END:VEVENT
END:VCALENDAR
