BEGIN:VCALENDAR
PRODID:-//AT Content Types//AT Event//EN
VERSION:2.0
METHOD:PUBLISH
BEGIN:VEVENT
DTSTAMP:20260419T124424Z
CREATED:20231213T161814Z
UID:ATEvent-d24df87d004941dbab0b64a0a33cfcb3
LAST-MODIFIED:20240918T112343Z
SUMMARY:Project Launch // Paul Petau: The first illustrated catalog of a private collection of antiquities - A comprehensive digital study
DTSTART:20240221T171500Z
DTEND:20240221T193000Z
DESCRIPTION:Launch of the research project: “I desire nothing but an
 cient things” – Paul Petau (1568–1614): ancient culture\, nation
 al identity and religious devotion. The first printed illustrated cata
 log of a private collection of antiquities – A comprehensive digital
  study. Funded by the Fritz Thyssen Stiftung.
LOCATION:Zentralinstitut für Kunstgeschichte\, Katharina-von-Bora-Str. 10\, München\, Vortragssaal 242\, II. OG und digital
CATEGORIES:2024
CLASS:PUBLIC
END:VEVENT
END:VCALENDAR
