BEGIN:VCALENDAR
PRODID:-//AT Content Types//AT Event//EN
VERSION:1.0
BEGIN:VEVENT
DTSTART:20240612T123000Z
DTEND:20240612T170000Z
DCREATED:20230705T132237Z
UID:ATEvent-cd2bf03192cb4e8c901f2745c0c3b016
SEQUENCE:0
LAST-MODIFIED:20240918T113543Z
SUMMARY:Studientag // Giotto ! Renaissance
LOCATION:Zentralinstitut für Kunstgeschichte\, Katharina-von-Bora-Straße 10\, 80333 München\, Vortragssaal 242 + digital
PRIORITY:3
TRANSP:0
END:VEVENT
END:VCALENDAR
