BEGIN:VCALENDAR
PRODID:-//AT Content Types//AT Event//EN
VERSION:1.0
BEGIN:VEVENT
DTSTART:20241010T110000Z
DTEND:20241012T150000Z
DCREATED:20240807T115924Z
UID:ATEvent-1b60e68968b647ec9d5b4f8a969badfb
SEQUENCE:0
LAST-MODIFIED:20251029T110344Z
SUMMARY:Tagung // Wortgebilde. Deutungsanspruch und Selbstpositionierung in Künstler:innenschriften der Moderne
LOCATION:Raum 242\, II. OG\, Katharina-von-Bora-Straße 10\, 80333 München
PRIORITY:3
TRANSP:0
END:VEVENT
END:VCALENDAR
