BEGIN:VCALENDAR
PRODID:-//AT Content Types//AT Event//EN
VERSION:2.0
METHOD:PUBLISH
BEGIN:VEVENT
DTSTAMP:20260425T162825Z
CREATED:20240701T081722Z
UID:ATEvent-cc89beacfad84e948b4ab2321b3ced1d
LAST-MODIFIED:20241118T113033Z
SUMMARY:Vortrag // Dominik Brabant\, München: Genremalerei als Vorgeschichte der Soziologie? Überlegungen zur Neuperspektivierung von Gattungsgeschichte
DTSTART:20241204T171500Z
DTEND:20241204T190000Z
LOCATION:Raum 242\, II. OG\, Katharina-von-Bora-Straße 10\, 80333 München
CATEGORIES:2024
CLASS:PUBLIC
END:VEVENT
END:VCALENDAR
