BEGIN:VCALENDAR
PRODID:-//AT Content Types//AT Event//EN
VERSION:1.0
BEGIN:VEVENT
DTSTART:20240221T180000Z
DTEND:20240221T183000Z
DCREATED:20231213T171701Z
UID:ATEvent-254e6c748fd44958b69782efbc9cacd5
SEQUENCE:0
LAST-MODIFIED:20241106T110130Z
SUMMARY:Vortrag // Rosa Maria Rodriguez Porto\, Santiago de Compostela/Odense: A Curious Item in Paul Petau's Library: De rebus Hispaniae (Copenhaguen\, KB\, Thott 554 fol.)
DESCRIPTION:The lecture is part of the event Project Lunch // Paul Pet
 au: The first illustrated catalog of a private collection of antiquiti
 es - A comprehensive digital study
LOCATION:Zentralinstitut für Kunstgeschichte\, Katharina-von-Bora-Str. 10\, München\, Vortragssaal 242\, II. OG und digital
PRIORITY:3
TRANSP:0
END:VEVENT
END:VCALENDAR
