BEGIN:VCALENDAR
PRODID:-//AT Content Types//AT Event//EN
VERSION:2.0
METHOD:PUBLISH
BEGIN:VEVENT
DTSTAMP:20260423T050022Z
CREATED:20240701T090550Z
UID:ATEvent-c606eed2b23349abab025bed841576de
LAST-MODIFIED:20241002T072247Z
SUMMARY:Vortrag // Dietmar Rübel\, München\, und Petra Lange-Berndt\, Hamburg: Kunst um 1800. Eine Ausstellungsreihe schreibt Geschichte
DTSTART:20241106T171500Z
DTEND:20241106T190000Z
LOCATION:Raum 242\, II. OG\, Katharina-von-Bora-Straße 10\, 80333 München
CATEGORIES:2024
CLASS:PUBLIC
END:VEVENT
END:VCALENDAR
