BEGIN:VCALENDAR
PRODID:-//AT Content Types//AT Event//EN
VERSION:2.0
METHOD:PUBLISH
BEGIN:VEVENT
DTSTAMP:20260420T084022Z
CREATED:20231213T155549Z
UID:ATEvent-8eef6bdb314a4cd895c4b49cf9b6e097
LAST-MODIFIED:20241106T110009Z
SUMMARY:Vortrag // Sabine Frommel\, Paris: Die Suche nach der idealen Form der Kirche. Wechselbeziehungen zwischen gemalter und gebauter Architektur von Mantegna bis Raffael
DTSTART:20240306T171500Z
DTEND:20240306T183000Z
LOCATION:Zentralinstitut für Kunstgeschichte\, Katharina-von-Bora-Str. 10\, München\, Vortragssaal 242\, II. OG und digital
CATEGORIES:2024
CLASS:PUBLIC
END:VEVENT
END:VCALENDAR
