BEGIN:VCALENDAR
PRODID:-//AT Content Types//AT Event//EN
VERSION:1.0
BEGIN:VEVENT
DTSTART:20240424T100000Z
DTEND:20240424T110000Z
DCREATED:20240311T145357Z
UID:ATEvent-d1afb78489d64ed9870006d379453c34
SEQUENCE:0
LAST-MODIFIED:20240918T124741Z
SUMMARY:Workshop // Anne Pfautsch: Looking at Photographs: Othering and Self-Othering in East Germany
DESCRIPTION:Fellows und Mitarbeitende des ZI sowie Gastwissenschaftler
 innen und Gastwissenschaftler berichten über laufende Arbeiten. Die o
 ffene Form des Workshops ermöglicht eine intensive Diskussion.
LOCATION:Vortragsraum 242\, II. OG\, Katharina-von-Bora-Straße 10\, 80333 München
PRIORITY:3
TRANSP:0
END:VEVENT
END:VCALENDAR
