BEGIN:VCALENDAR
PRODID:-//AT Content Types//AT Event//EN
VERSION:2.0
METHOD:PUBLISH
BEGIN:VEVENT
DTSTAMP:20260422T103001Z
CREATED:20240927T073246Z
UID:ATEvent-7cf5cedd79af412e823b0acb7e812b44
LAST-MODIFIED:20240930T065306Z
SUMMARY:Workshop // Carlos Kong: Postmigrant Fabulation: Archival Afterlives of Turkish German Migration in Contemporary Art
DTSTART:20241009T100000Z
DTEND:20241009T110000Z
DESCRIPTION:Fellows und Mitarbeitende des ZI sowie Gastwissenschaftler
 innen und Gastwissenschaftler berichten über laufende Arbeiten. Die o
 ffene Form des Workshops ermöglicht eine intensive Diskussion.
LOCATION:Raum 242\, II. OG\, Katharina-von-Bora-Straße 10\, 80333 München
CATEGORIES:2024
CLASS:PUBLIC
END:VEVENT
END:VCALENDAR
