BEGIN:VCALENDAR
PRODID:-//AT Content Types//AT Event//EN
VERSION:2.0
METHOD:PUBLISH
BEGIN:VEVENT
DTSTAMP:20260421T190029Z
CREATED:20231218T174127Z
UID:ATEvent-dbdfb83d4a5c4e8d98b99b7066f27589
LAST-MODIFIED:20260325T093720Z
SUMMARY:Workshop // Der Brand im Münchner Glaspalast 1931. Folgen und Narrative des Verlusts
DTSTART:20240724T100000Z
DTEND:20240724T173000Z
LOCATION:Zentralinstitut für Kunstgeschichte\, Katharina-von-Bora-Str. 10\, München\, Vortragssaal 242\, II. OG + digital
CATEGORIES:2024
CLASS:PUBLIC
END:VEVENT
END:VCALENDAR
