BEGIN:VCALENDAR
PRODID:-//AT Content Types//AT Event//EN
VERSION:1.0
BEGIN:VEVENT
DTSTART:20240616T220000Z
DTEND:20240620T220000Z
DCREATED:20231229T213122Z
UID:ATEvent-605d0da6000d4d538e2ccf2aefb87c20
SEQUENCE:0
LAST-MODIFIED:20240918T113658Z
SUMMARY:XXII. Frühjahrsakademie für Kunstgeschichte: „Soziales Imaginieren und die Rolle von Bildern\, Kunstwerken und Bauten“
DESCRIPTION:Die 22. Frühjahrsakademie (École de Printemps\, EdP) wir
 d von der Friedrich-Schiller-Universität Jena organisiert und in Weim
 ar stattfinden.
LOCATION:Weimar
PRIORITY:3
TRANSP:0
END:VEVENT
END:VCALENDAR
