BEGIN:VCALENDAR
PRODID:-//AT Content Types//AT Event//EN
VERSION:2.0
METHOD:PUBLISH
BEGIN:VEVENT
DTSTAMP:20260420T084343Z
CREATED:20250108T121311Z
UID:ATEvent-36bd110916734d76ac4a553f9e22425c
LAST-MODIFIED:20250108T121442Z
SUMMARY:Current Research // Lektüreseminar am ZI mit Johannes Gebhardt: Christ’s Petrified Blood: Heliotrope Cameos in Byzantium and Beyond
DTSTART:20250205T130000Z
DTEND:20250205T150000Z
DESCRIPTION:Das Lektüreseminar diskutiert jüngst publizierte Arbeite
 n oder aber weitgehend abgeschlossene Manuskripte. Die Texte werden im
  Voraus an die Teilnehmenden verschickt und dann gemeinsam mit den Aut
 orinnen und Autoren diskutiert.
LOCATION:Zentralinstitut für Kunstgeschichte\, Katharina-von-Bora-Str. 10\, 80333 München\, Raum 110\, I. OG
CATEGORIES:2025
CLASS:PUBLIC
END:VEVENT
END:VCALENDAR
