BEGIN:VCALENDAR
PRODID:-//AT Content Types//AT Event//EN
VERSION:1.0
BEGIN:VEVENT
DTSTART:20250703T080000Z
DTEND:20250703T093000Z
DCREATED:20250305T112411Z
UID:ATEvent-0a96470badfd4675b3553cf2e927fd3a
SEQUENCE:0
LAST-MODIFIED:20250423T084814Z
SUMMARY:Current Research to The Panofsky Lecture 2025 // Marisa Bass\, New Haven | Holbein’s Margins: Printing Alliances in Renaissance Basel
DESCRIPTION:Discussion with Panofsky Professor 2025 Prof. Dr. Marisa B
 ass
LOCATION:Zentralinstitut für Kunstgeschichte\, Raum 110\, I. OG
PRIORITY:3
TRANSP:0
END:VEVENT
END:VCALENDAR
