BEGIN:VCALENDAR
PRODID:-//AT Content Types//AT Event//EN
VERSION:1.0
BEGIN:VEVENT
DTSTART:20250709T161500Z
DTEND:20250709T180000Z
DCREATED:20250305T094338Z
UID:ATEvent-28371272dfda410897e2e556bd9c99c8
SEQUENCE:0
LAST-MODIFIED:20250630T090833Z
SUMMARY:Festvortrag Wolfgang-Ratjen-Preis 2025 // Antony Griffiths\, London:  On Understanding and Misunderstanding Prints
DESCRIPTION:Aus Anlass der Vergabe des Wolfgang-Ratjen-Preises 2025 an
 : Esther Löffelbein\, M.A.\, Heidelberg\, für ihre Masterarbeit „V
 on der Ölpause bis zur Variante: Nachzeichnungen im Kupferstich-Kabin
 ett Dresden nach italienischen und französischen Blättern des 16. Ja
 hrhunderts aus der Sammlung Eberhard Jabach" | Dr. Ariella Minden\, Ro
 m\, für ihre Dissertation „In Dialogue: Medial Thinking in Bolognes
 e Printmaking\, 1500-1530" | Rebecca Welkens\, M.A.\, Heidelberg\, fü
 r ihre Dissertation „Die Tronie in der Druckgraphik. Funktionen\, Re
 zeptionen und Vermarktungen vom 16. bis zum 18. Jahrhundert"
LOCATION:Zentralinstitut für Kunstgeschichte\, Vortragsraum 242\, II. OG + digital
PRIORITY:3
TRANSP:0
END:VEVENT
END:VCALENDAR
