BEGIN:VCALENDAR
PRODID:-//AT Content Types//AT Event//EN
VERSION:2.0
METHOD:PUBLISH
BEGIN:VEVENT
DTSTAMP:20260421T083411Z
CREATED:20250212T093603Z
UID:ATEvent-fe876134cccf4ca6a674baf132f0e316
LAST-MODIFIED:20250523T094201Z
SUMMARY:Ausstellungsführung // Die Unterlagen befinden sich im Zustand der Ablage. Poesie und Verwaltung aus dem Archiv des Künstlerverbund im Haus der Kunst e.V.
DTSTART:20250513T090000Z
DTEND:20250513T100000Z
DESCRIPTION:Mit der Künstlerin Petra Gerschner und dem Kunsthistorike
 r Christian Fuhrmeister
LOCATION:Zentralinstitut für Kunstgeschichte\, Katharina-von-Bora-Str. 10\, 80333 München | Lichthof Nord\, 1. OG
CATEGORIES:2025
CLASS:PUBLIC
END:VEVENT
END:VCALENDAR
