BEGIN:VCALENDAR
PRODID:-//AT Content Types//AT Event//EN
VERSION:1.0
BEGIN:VEVENT
DTSTART:20250626T133000Z
DTEND:20250627T153000Z
DCREATED:20250604T072340Z
UID:ATEvent-406a184e900d46d1a0701d85c9c743a5
SEQUENCE:0
LAST-MODIFIED:20250604T075717Z
SUMMARY:International Conference // The Art of Organizing Work: Structures\, Procedures\, and Economies of Craft Workshops in Early 20th Century
DESCRIPTION:Eine Veranstaltung in Kooperation mit dem Deutschen Forum 
 für Kunstgeschichte (DFK Paris) und der Leuphana Universität Lünebu
 rg
LOCATION:Deutsches Forum für Kunstgeschichte (DFK Paris)\,  Hôtel Lully 45\, rue des Petits-Champs\, 75001 Paris / France
PRIORITY:3
TRANSP:0
END:VEVENT
END:VCALENDAR
