BEGIN:VCALENDAR
PRODID:-//AT Content Types//AT Event//EN
VERSION:1.0
BEGIN:VEVENT
DTSTART:20250312T120000Z
DTEND:20250315T130000Z
DCREATED:20250107T125044Z
UID:ATEvent-382d49a829f8410e812a4c6bb0b83ee7
SEQUENCE:0
LAST-MODIFIED:20251028T130914Z
SUMMARY:IX. Forum Kunstgeschichte Italiens
DESCRIPTION:IX. Forum Kunstgeschichte Italiens am Zentralinstitut für
  Kunstgeschichte in München
LOCATION:Zentralinstitut für Kunstgeschichte\, Katharina-von-Bora-Str. 10\, München\, Vortragssaal 242\, II. OG
PRIORITY:3
TRANSP:0
END:VEVENT
END:VCALENDAR
