BEGIN:VCALENDAR
PRODID:-//AT Content Types//AT Event//EN
VERSION:1.0
BEGIN:VEVENT
DTSTART:20250302T100000Z
DTEND:20250302T110000Z
DCREATED:20241216T094524Z
UID:ATEvent-5d0a14257cd2407bb976e230ac28f153
SEQUENCE:0
LAST-MODIFIED:20250324T111218Z
SUMMARY:KUNST-SONNTAG im Zentralinstitut für Kunstgeschichte – KUNST-GESCHICHTE entdecken // Die Ausstellungen Der Blaue Reiter 1949 und Gabriele Münter 1952
DESCRIPTION:In Gestalt kurzer Vorträge mit anschließendem Gespräch 
 wirft die Reihe des Zentralinstituts für Kunstgeschichte (ZI) Schlagl
 ichter auf München im ersten Nachkriegsjahrzehnt | Mit Franziska Esch
 enbach\, Lisa Kern und Paulina Klimsa\, Städtische Galerie im Lenbach
 haus und Kunstbau
LOCATION:Raum 242\, II. OG\, Katharina-von-Bora-Straße 10\, 80333 München
PRIORITY:3
TRANSP:0
END:VEVENT
END:VCALENDAR
