BEGIN:VCALENDAR
PRODID:-//AT Content Types//AT Event//EN
VERSION:2.0
METHOD:PUBLISH
BEGIN:VEVENT
DTSTAMP:20260421T234507Z
CREATED:20250305T113326Z
UID:ATEvent-5ab6dc1c59f14809a37f52ae543e0108
LAST-MODIFIED:20250423T085004Z
SUMMARY:Panofsky Lecture 2025 // Marisa Bass\, New Haven: Holbein’s Margins: Printing Alliances in Renaissance Basel
DTSTART:20250702T161500Z
DTEND:20250702T173000Z
DESCRIPTION:Rather than focusing on Holbein as a learned artist\, this
  lecture begins with the premise that he was an opportunistic one.
LOCATION:Großer Lesesaal der Bibliothek\, 1. OG\, Katharina-von-Bora-Str. 10\, 80333 München + digital
CATEGORIES:Panofsky Lecture, 2025
CLASS:PUBLIC
END:VEVENT
END:VCALENDAR
