BEGIN:VCALENDAR
PRODID:-//AT Content Types//AT Event//EN
VERSION:1.0
BEGIN:VEVENT
DTSTART:20250205T171500Z
DTEND:20250205T190000Z
DCREATED:20241111T095942Z
UID:ATEvent-a62fddf217d74401b0e6870c5fa3f068
SEQUENCE:0
LAST-MODIFIED:20250324T111027Z
SUMMARY:Round-Table-Gespräch mit Impulsvorträgen // Welche Erkenntnisinteressen und Funktionen hat die Kunstgeschichte heute und in Zukunft?
DESCRIPTION:Die Veranstaltung ist Teil der Reihe „Kunstgeschichte 20
 25. Zum Stand des Faches in Forschung\, Lehre und Selbstreflexion". Di
 e dreiteilige Vortragsreihe mit anschließender Paneldiskussion lädt 
 zu einer Sondierung des aktuellen Stands des Faches im Hinblick auf Fo
 rschung\, Lehre und Selbstreflexion ein.
LOCATION:Zentralinstitut für Kunstgeschichte\, Raum 242\, 2. OG + online
PRIORITY:3
TRANSP:0
END:VEVENT
END:VCALENDAR
