BEGIN:VCALENDAR
PRODID:-//AT Content Types//AT Event//EN
VERSION:2.0
METHOD:PUBLISH
BEGIN:VEVENT
DTSTAMP:20260421T083117Z
CREATED:20250120T093317Z
UID:ATEvent-c25a6f82fbc34aa19933c9959f07751c
LAST-MODIFIED:20250211T094101Z
SUMMARY:Vortrag // Iris Lauterbach\, München: „Offenen Auges hinaus“: Friedrich Ludwig von Sckells Entwurfsmethode und die Rezeption seines Werks in München und darüber hinaus
DTSTART:20250307T171500Z
DTEND:20250307T190000Z
DESCRIPTION:Verabschiedungsveranstaltung für Prof. Dr. Iris Lauterbac
 h
LOCATION:Raum 242\, II. OG\, Katharina-von-Bora-Straße 10\, 80333 München
CATEGORIES:2025
CLASS:PUBLIC
END:VEVENT
END:VCALENDAR
