BEGIN:VCALENDAR
PRODID:-//AT Content Types//AT Event//EN
VERSION:2.0
METHOD:PUBLISH
BEGIN:VEVENT
DTSTAMP:20260425T173711Z
CREATED:20250205T105632Z
UID:ATEvent-05f95565cbb1433fb308cde0ac5eaaee
LAST-MODIFIED:20250226T083905Z
SUMMARY:Ausstellungseröffnung // Die Unterlagen befinden sich im Zustand der Ablage. Poesie und Verwaltung aus dem Archiv des Künstlerverbund im Haus der Kunst e.V.
DTSTART:20250319T170000Z
DTEND:20250319T190000Z
DESCRIPTION:Auftakt zu einem Ausstellungsprojekt des Künstlerverbund 
 im Haus der Kunst e.V. in Kooperation mit dem Zentralinstitut für Kun
 stgeschichte im Programm Public History München: 1945 – 2025 Stunde
  Null? Wie wir wurden\, was wir sind des Kulturreferats München
LOCATION:Zentralinstitut für Kunstgeschichte\, Katharina-von-Bora-Str. 10\, 80333 München
CATEGORIES:2025
CLASS:PUBLIC
END:VEVENT
END:VCALENDAR
