BEGIN:VCALENDAR
PRODID:-//AT Content Types//AT Event//EN
VERSION:1.0
BEGIN:VEVENT
DTSTART:20250521T161500Z
DTEND:20250521T173000Z
DCREATED:20250321T083734Z
UID:ATEvent-5d45c30c89484dd9aff7f7c60f056f6b
SEQUENCE:0
LAST-MODIFIED:20250512T122827Z
SUMMARY:Vortrag // Andreas Zeising\, Dortmund: "Ich empfinde da nichts dran". Radioöffentlichkeit und moderne Kunst: Die Bochumer "Hallo Ü-Wagen"-Sendung von 1980
DESCRIPTION:Abendvortrag im Rahmen des Workshops „Das Publikum der z
 eitgenössischen Kunst"
LOCATION:Zentralinstitut für Kunstgeschichte\, Katharina-von-Bora-Str. 10\, München\, Vortragssaal 242\, II. OG + digital
PRIORITY:3
TRANSP:0
END:VEVENT
END:VCALENDAR
