BEGIN:VCALENDAR
PRODID:-//AT Content Types//AT Event//EN
VERSION:2.0
METHOD:PUBLISH
BEGIN:VEVENT
DTSTAMP:20260420T011102Z
CREATED:20241118T112924Z
UID:ATEvent-132ad2201c18401c87209e7678f9ebf4
LAST-MODIFIED:20241118T113352Z
SUMMARY:Vortrag // Iris Brahms\, Tübingen: Poussière précieuse. Staub als motivo-choc in der Portraitmalerei des 18. Jahrhunderts
DTSTART:20250212T171500Z
DTEND:20250212T190000Z
LOCATION:Raum 242\, II. OG\, Katharina-von-Bora-Straße 10\, 80333 München
CATEGORIES:2025
CLASS:PUBLIC
END:VEVENT
END:VCALENDAR
