BEGIN:VCALENDAR
PRODID:-//AT Content Types//AT Event//EN
VERSION:1.0
BEGIN:VEVENT
DTSTART:20250516T120000Z
DTEND:20250516T170000Z
DCREATED:20250317T091910Z
UID:ATEvent-056a8d31c68945a0bb069b991a9a5c9f
SEQUENCE:0
LAST-MODIFIED:20260130T093948Z
SUMMARY:Workshop // The Brescia Casket: An Exemplary Object Biography Between Art History\, Technical Art History\, and Reception History
DESCRIPTION:In this workshop\, the first results of the research on th
 e "Brescia Casket" will be presented for discussion.
LOCATION:Raum 242\, II. OG\, Katharina-von-Bora-Straße 10\, 80333 München + digital
PRIORITY:3
TRANSP:0
END:VEVENT
END:VCALENDAR
