BEGIN:VCALENDAR
PRODID:-//AT Content Types//AT Event//EN
VERSION:1.0
BEGIN:VEVENT
DTSTART:20250511T220000Z
DTEND:20250516T220000Z
DCREATED:20250103T091734Z
UID:ATEvent-a6134ddc7ea34f3e97d9a178ab72330f
SEQUENCE:0
LAST-MODIFIED:20250103T092428Z
SUMMARY:XXIII. Frühjahrsakademie für Kunstgeschichte //  Monumentum/monimentum
DESCRIPTION:Die XXIII École de Printemps (EdP) wird vom 12. bis 17. M
 ai 2025 im Palazzone di Cortona (Scuola Normale Superiore\, Pisa) in C
 ortona stattfinden.
LOCATION:Palazzone di Cortona ( Scuola Normale Superiore)\, Cortona
PRIORITY:3
TRANSP:0
END:VEVENT
END:VCALENDAR
