BEGIN:VCALENDAR
PRODID:-//AT Content Types//AT Event//EN
VERSION:2.0
METHOD:PUBLISH
BEGIN:VEVENT
DTSTAMP:20260420T175759Z
CREATED:20251208T090408Z
UID:ATEvent-34823f8ce6d84730b494360934d754d0
LAST-MODIFIED:20260223T085354Z
SUMMARY:38. Deutscher Kongress für Kunstgeschichte 2026 | wissen
DTSTART:20260225T090000Z
DTEND:20260228T153000Z
DESCRIPTION:Veranstaltet vom: Deutschen Verband für Kunstgeschichte e
 .V.\, vom Zentralinstitut für Kunstgeschichte München und vom Instit
 ut für Kunstgeschichte der Ludwig-Maximilians-Universität München
LOCATION:Mehrere Veranstaltungsorte (siehe Programm)
CATEGORIES:2026
CLASS:PUBLIC
END:VEVENT
END:VCALENDAR
