BEGIN:VCALENDAR
PRODID:-//AT Content Types//AT Event//EN
VERSION:1.0
BEGIN:VEVENT
DTSTART:20260204T131500Z
DTEND:20260204T150000Z
DCREATED:20251208T093448Z
UID:ATEvent-d82ef6deecb84f92a67c6a8e661e0906
SEQUENCE:0
LAST-MODIFIED:20260204T112126Z
SUMMARY:Current Research // Lektüreseminar am ZI mit Beniamino Foschini : Eine Akademie für sich allein? Das Symposium „Kunst und/von Frauen“ 1982
DESCRIPTION:Das Lektüreseminar diskutiert jüngst publizierte Arbeite
 n oder aber weitgehend abgeschlossene Manuskripte. Die Texte werden im
  Voraus an die Teilnehmenden verschickt und dann gemeinsam mit den Aut
 orinnen und Autoren diskutiert.
LOCATION:Zentralinstitut für Kunstgeschichte\, Katharina-von-Bora-Str. 10\, 80333 München\, Raum 110\, I. OG
PRIORITY:3
TRANSP:0
END:VEVENT
END:VCALENDAR
