BEGIN:VCALENDAR
PRODID:-//AT Content Types//AT Event//EN
VERSION:1.0
BEGIN:VEVENT
DTSTART:20260421T090000Z
DTEND:20260421T100000Z
DCREATED:20260313T110219Z
UID:ATEvent-749ade6acb954030910dfadf7e154293
SEQUENCE:0
LAST-MODIFIED:20260324T091707Z
SUMMARY:Führung // Ausstellung: unbekleidet | ausgezogen: Der Akt in der kunsthistorischen Forschung
DESCRIPTION:Seit den Anfängen der Kunstgeschichte zählt der Akt zu i
 hren zentralen\, zugleich aber umstrittenen Forschungsgegenständen. A
 n der Darstellung des unbekleideten menschlichen Körpers erprobte die
  Disziplin ihre Methoden\, Deutungsansätze und Grenzen über Epochen 
 und Medien hinweg.
LOCATION:Zentralinstitut für Kunstgeschichte\, Katharina-von-Bora-Straße 10\, 80333 München\, Treffpunkt: Lichthof Nord\, 1. OG
PRIORITY:3
TRANSP:0
END:VEVENT
END:VCALENDAR
