BEGIN:VCALENDAR
PRODID:-//AT Content Types//AT Event//EN
VERSION:1.0
BEGIN:VEVENT
DTSTART:20260210T100000Z
DTEND:20260210T110000Z
DCREATED:20250917T121435Z
UID:ATEvent-5b1a83ebe103453893d938d793ec164d
SEQUENCE:0
LAST-MODIFIED:20251215T093900Z
SUMMARY:Führung // Corinth werden! Der Künstler und die Kunstgeschichte
DESCRIPTION:Eine Führung durch die Ausstellung „Corinth werden! Der
  Künstler und die Kunstgeschichte“ im Lichthof des ZI. Mit Elias Ne
 uhaus.
LOCATION:Zentralinstitut für Kunstgeschichte\, Katharina-von-Bora-Str. 10\, 80333 München | Lichthof Nord\, 1. OG
PRIORITY:3
TRANSP:0
END:VEVENT
END:VCALENDAR
