BEGIN:VCALENDAR
PRODID:-//AT Content Types//AT Event//EN
VERSION:1.0
BEGIN:VEVENT
DTSTART:20260415T100000Z
DTEND:20260415T110000Z
DCREATED:20260401T121327Z
UID:ATEvent-3fcde3391c284091b9be493f6906f29c
SEQUENCE:0
LAST-MODIFIED:20260401T121420Z
SUMMARY:Workshop // Reed O’Mara: Materializing Sacred Language: Picturing and Performing Hebrew in Late Medieval Art
DESCRIPTION:Reed O’Mara ist „Kress Two-Year Institutional Fellow i
 n the History of Art“.
LOCATION:Zentralinstitut für Kunstgeschichte\, Katharina-von-Bora-Str. 10\, 80333 München\, Vortragssaal 242\, II. OG
PRIORITY:3
TRANSP:0
END:VEVENT
END:VCALENDAR
