BEGIN:VCALENDAR
PRODID:-//AT Content Types//AT Event//EN
VERSION:2.0
METHOD:PUBLISH
BEGIN:VEVENT
DTSTAMP:20260420T215703Z
CREATED:20250908T080810Z
UID:ATEvent-1046e2f172b5472d9ec3e35cf58ba8b9
LAST-MODIFIED:20251215T122940Z
SUMMARY:Symposium // Fotografie in München II – Symposium zu Perspektiven und Vernetzung der Fotografie
DTSTART:20260129T090000Z
DTEND:20260129T180000Z
DESCRIPTION:Das Format „Fotografie in München“ geht in die zweite
  Runde. Nachdem der erste Teil im November 2024 die Sammlungen öffent
 licher Museen und Stiftungen sowie Lehr- und Forschungseinrichtungen i
 n den Mittelpunkt stellte\, richtet diese Veranstaltung den Blick auf 
 weitere zentrale Akteur:innen des fotografischen Feldes in München.
LOCATION:Pinakothek der Moderne\, Ernst von Siemens-Auditorium\, Barer Straße 40\, 80333 München
CATEGORIES:2026
CLASS:PUBLIC
END:VEVENT
END:VCALENDAR
