BEGIN:VCALENDAR
PRODID:-//AT Content Types//AT Event//EN
VERSION:1.0
BEGIN:VEVENT
DTSTART:20260408T130000Z
DTEND:20260408T140000Z
DCREATED:20260312T104938Z
UID:ATEvent-1312c6ed95784c948583bed814de8611
SEQUENCE:0
LAST-MODIFIED:20260316T091633Z
SUMMARY:Tag der Provenienzforschung 2026 // Führung: Provenienzforschung am ZI – Die Bestände der Bibliothek und Photothek
DESCRIPTION:Die Führung mit Lena Schneider und Cosima Dollansky biete
 t einen kurzen Überblick zur Geschichte des ZI sowie Einblicke in die
  Bibliothek\, die Photothek und die dort liegenden Kunsthandelsquellen
 .
LOCATION:Zentralinstitut für Kunstgeschichte\, Katharina-von-Bora-Str. 10\, 80333 München\, Treffpunkt: Foyer im EG
PRIORITY:3
TRANSP:0
END:VEVENT
END:VCALENDAR
