BEGIN:VCALENDAR
PRODID:-//AT Content Types//AT Event//EN
VERSION:2.0
METHOD:PUBLISH
BEGIN:VEVENT
DTSTAMP:20260423T114557Z
CREATED:20260313T110554Z
UID:ATEvent-acb53bbace074fbea5f9f1a554f1c692
LAST-MODIFIED:20260324T091757Z
SUMMARY:Führung // Ausstellung: unbekleidet | ausgezogen: Der Akt in der kunsthistorischen Forschung
DTSTART:20260616T160000Z
DTEND:20260616T170000Z
DESCRIPTION:Seit den Anfängen der Kunstgeschichte zählt der Akt zu i
 hren zentralen\, zugleich aber umstrittenen Forschungsgegenständen. A
 n der Darstellung des unbekleideten menschlichen Körpers erprobte die
  Disziplin ihre Methoden\, Deutungsansätze und Grenzen über Epochen 
 und Medien hinweg.
LOCATION:Zentralinstitut für Kunstgeschichte\, Katharina-von-Bora-Straße 10\, 80333 München\, Treffpunkt: Lichthof Nord\, 1. OG
CATEGORIES:2026
CLASS:PUBLIC
END:VEVENT
END:VCALENDAR
