BEGIN:VCALENDAR
PRODID:-//AT Content Types//AT Event//EN
VERSION:2.0
METHOD:PUBLISH
BEGIN:VEVENT
DTSTAMP:20260420T165959Z
CREATED:20251121T083149Z
UID:ATEvent-9c717e68b60d4ce38922d144e36477b3
LAST-MODIFIED:20260112T140145Z
SUMMARY:Vortrag // Bernhard Maaz: Leo von König und Rainer Maria Rilke: Korrespondenzen\, Lektüren\, Reminiszenzen
DTSTART:20260211T171500Z
DTEND:20260211T184500Z
DESCRIPTION:Der Porträtmaler Leo von König (1871–1944) hat einen k
 langvollen Namen und hinterließ ein großes Werk\, doch die zugehöri
 gen\, weithin verstreuten Schriftquellen sind kaum zugänglich.  Seine
  Person mit ihren Vernetzungen zu Künstlern und Dichtern wie Käthe K
 ollwitz und Gerhard Marcks\, zu Rainer Maria Rilke und Rudolf Alexande
 r Schröder sowie zu Personen des öffentlichen Lebens verdient hohes 
 Interesse. Mit einem umfangreichen Forschungsvorhaben werden derzeit e
 rstmals seine Briefe\, Schriften und Notate quellenkritisch\, kunst- u
 nd literaturhistorisch erschlossen.
LOCATION:Zentralinstitut für Kunstgeschichte\, Katharina-von-Bora-Str. 10\, 80333 München\, Vortragssaal 242\, II. OG + online
CATEGORIES:2026
CLASS:PUBLIC
END:VEVENT
END:VCALENDAR
