BEGIN:VCALENDAR
PRODID:-//AT Content Types//AT Event//EN
VERSION:2.0
METHOD:PUBLISH
BEGIN:VEVENT
DTSTAMP:20260420T230545Z
CREATED:20251107T103937Z
UID:ATEvent-69af43ee8ffc497983e8622af0e7c57c
LAST-MODIFIED:20260112T160819Z
SUMMARY:Vortrag // Stefan Albl: Die Grenzen des Machbaren. Grundlagenforschung in der musealen Praxis
DTSTART:20260114T171500Z
DTEND:20260114T184500Z
DESCRIPTION:Am Beispiel der Alten Galerie in Graz befasst sich der Vor
 trag mit der Grundlagenforschung in der musealen Praxis. Der Fokus lie
 gt dabei auf den Herausforderungen und Möglichkeiten\, die mit der wi
 ssenschaftlichen Bearbeitung einer heterogenen Sammlung verbunden sind
  | Dieser Vortrag ist Teil der Vortragsreihe „Museen am ZI“\, die 
 aktuelle Forschung an Museen präsentiert.
LOCATION:Zentralinstitut für Kunstgeschichte\, Katharina-von-Bora-Str. 10\, München\, Vortragssaal 242\, II. OG + online
CATEGORIES:2026, Reihe Museen am ZI
CLASS:PUBLIC
END:VEVENT
END:VCALENDAR
