BEGIN:VCALENDAR
PRODID:-//AT Content Types//AT Event//EN
VERSION:2.0
METHOD:PUBLISH
BEGIN:VEVENT
DTSTAMP:20260422T105111Z
CREATED:20260422T071224Z
UID:ATEvent-0bf9da57a1c54cbdba75b62745faabac
LAST-MODIFIED:20260422T072102Z
SUMMARY:Vortrag // Femke Speelberg: What's in a Name? The "Basler Goldschmiederisse" and the Quest for their Artistic Origins
DTSTART:20260624T161500Z
DTEND:20260624T173000Z
DESCRIPTION:This lecture focuses on the "Basler Goldschmiederisse"\, a
  group of sixteenth-century pen and ink drawings from the workshop inv
 entory of the Basel-based goldsmith family Schweiger. However\, their 
 subject matter suggests different origins\, which will be explored in 
 this art historical “Who done it” that highlights the cross-discip
 linary character of the Gothic design practice\, connecting works on p
 aper with goldsmith’s work\, wood and stone carving\, and projects f
 or monumental architecture.
LOCATION:Zentralinstitut für Kunstgeschichte\, Katharina-von-Bora-Str. 10\, München\, Vortragssaal 242\, II. OG
CATEGORIES:2026
CLASS:PUBLIC
END:VEVENT
END:VCALENDAR
