BEGIN:VCALENDAR
PRODID:-//AT Content Types//AT Event//EN
VERSION:2.0
METHOD:PUBLISH
BEGIN:VEVENT
DTSTAMP:20260420T165942Z
CREATED:20260119T132340Z
UID:ATEvent-ccb35ecf547a4c379f73f28f66c28d12
LAST-MODIFIED:20260206T122201Z
SUMMARY:Vortrag // Jacopo Galimberti: FahrrÃ¤der\, WÃ¤lder und Selfies: die rechtsextreme NaturÃ¤sthetik von BjÃ¶rn HÃ¶cke
DTSTART:20260506T161500Z
DTEND:20260506T174500Z
DESCRIPTION:BjÃ¶rn HÃ¶cke zÃ¤hlt zu den bekanntesten Akteuren der AfD 
 und ihrer sogenannten â€žvÃ¶lkischenâ€œ StrÃ¶mung. Unter RÃ¼ckgriff au
 f AnsÃ¤tze der Kritischen Theorie sowie der Kunstgeschichte analysiert
  der Vortrag HÃ¶ckes Instagram-Auftritt und untersucht sowohl die KohÃ
 ¤renz als auch die WidersprÃ¼che seiner politischen Ikonographie. Im F
 okus stehen dabei die Ã¤sthetischen Strategien seiner Selbstinszenieru
 ng ebenso wie deren Verflechtungen mit dem historischen Bildrepertoire
  der extremen Rechten. | Organisiert von der Forschungsgruppe â€žKunst
 \, Umwelt\, Ã–kologieâ€œ am Zentralinstitut fÃ¼r Kunstgeschichte.
LOCATION:Zentralinstitut fÃ¼r Kunstgeschichte\, Katharina-von-Bora-Str. 10\, 80333 MÃ¼nchen\, Vortragssaal 242\, II. OG + online
CATEGORIES:2026, Kunst, Umwelt, Ã–kologie
CLASS:PUBLIC
END:VEVENT
END:VCALENDAR
