BEGIN:VCALENDAR
PRODID:-//AT Content Types//AT Event//EN
VERSION:2.0
METHOD:PUBLISH
BEGIN:VEVENT
DTSTAMP:20260421T131256Z
CREATED:20260421T094413Z
UID:ATEvent-cb78afbd8db247acac0c75d64ae2f051
LAST-MODIFIED:20260421T112338Z
SUMMARY:Vortrag mit Filmführung // Ein Objekt – viele Geschichten. Neue Perspektiven der Lipsanothek in Brescia
DTSTART:20260514T160000Z
DTEND:20260514T180000Z
LOCATION:Pinacoteca Tosio Martinengo\, Piazza Moretto\, 4\, 25121 Brescia BS\, Italien
CATEGORIES:2026
CLASS:PUBLIC
END:VEVENT
END:VCALENDAR
