BEGIN:VCALENDAR
PRODID:-//AT Content Types//AT Event//EN
VERSION:1.0
BEGIN:VEVENT
DTSTART:20260211T110000Z
DTEND:20260211T120000Z
DCREATED:20260206T101010Z
UID:ATEvent-296f9d993a1e4628920390384c956a81
SEQUENCE:0
LAST-MODIFIED:20260206T102929Z
SUMMARY:Workshop // Rahul Kulka: Dynamische Herstellungsprozesse der Plattnerkunst im Spiegel von französischen Harnischzeichnungen der Staatlichen Graphischen Sammlung München
DESCRIPTION:Fellow Freiraum Fellowship 2025
LOCATION:Zentralinstitut für Kunstgeschichte\, Katharina-von-Bora-Str. 10\, 80333 München\, Raum 242\, II. OG
PRIORITY:3
TRANSP:0
END:VEVENT
END:VCALENDAR
