BEGIN:VCALENDAR
PRODID:-//AT Content Types//AT Event//EN
VERSION:2.0
METHOD:PUBLISH
BEGIN:VEVENT
DTSTAMP:20260420T084755Z
CREATED:20260206T101512Z
UID:ATEvent-980186790fee425eb85acfb5e705dac1
LAST-MODIFIED:20260206T102859Z
SUMMARY:Workshop // Esther Löffelbein: Venezianische Porträtzeichnungen um 1500. Materialität und Medialität
DTSTART:20260310T110000Z
DTEND:20260310T120000Z
DESCRIPTION:Preisträgerin Wolfgang-Ratjen-Preis 2025
LOCATION:Zentralinstitut für Kunstgeschichte\, Katharina-von-Bora-Str. 10\, 80333 München\, Raum 110\, I. OG
CATEGORIES:2026
CLASS:PUBLIC
END:VEVENT
END:VCALENDAR
